BEGIN:VCALENDAR
VERSION:2.0
BEGIN:VEVENT
URL:https://www.networkinaction.com/index.php/events/viewevent/7835-february-all-group-happy-hour?groupid=140 
DTSTART:20220222T170000
DTEND:20220222T203000
SUMMARY:February All Group Happy Hour
DESCRIPTION:<p>Once again, it is time for our monthly all group happy hour! I invite you to join me and all of our Business Force group members, for our monthly happy hour. Feel free to bring your significant other, friends, or any other business owners you think would be great members of our terrific groups. Our happy hours are always fun and help us build our relationships.</p>
<p>Looking forward to seeing you and sharing some good cheer!</p>
LOCATION:BJ's Restaurant & Brewhouse, 2231 Hwy 6, Sugar Land, TX 77478
END:VEVENT
END:VCALENDAR