BEGIN:VCALENDAR
VERSION:2.0
BEGIN:VEVENT
URL:https://www.networkinaction.com/index.php/events/viewevent/7829-launch-n-learn-with-nia-on-thursday-march-3rd-3-30pm?groupid=136 
DTSTART:20220303T153000
DTEND:20220303T163000
SUMMARY:Launch 'n Learn with NIA on Thursday, March 3rd @ 3:30pm
DESCRIPTION:<p>Learn the NIA difference! Join me virtually on Thursday, March 3rd @ 3:30 pm EST for an informational session to discover more about Network in Action coming to South Florida.
</p><p>I am looking to collaborate with serious professionals and business owners who want to grow their businesses intentionally through a network of like-minded individuals.
</p><p>No other networking organization in the country offers a guarantee on your membership investment! Find out exactly how much we will guarantee you!</p>


LOCATION:https://bit.ly/LaunchnLearn-March3rd
END:VEVENT
END:VCALENDAR