BEGIN:VCALENDAR
VERSION:2.0
BEGIN:VEVENT
URL:https://www.networkinaction.com/index.php/events/viewevent/7828-june-meeting?groupid=154 
DTSTART:20220601T150000
DTEND:20220601T163000
SUMMARY:June meeting
DESCRIPTION:
LOCATION:Roseville, TBD
END:VEVENT
END:VCALENDAR