BEGIN:VCALENDAR
VERSION:2.0
BEGIN:VEVENT
URL:https://www.networkinaction.com/index.php/events/viewevent/7827-may-meeting?groupid=154 
DTSTART:20220504T150000
DTEND:20220504T163000
SUMMARY:May meeting
DESCRIPTION:
LOCATION:Roseville, TBD
END:VEVENT
END:VCALENDAR