BEGIN:VCALENDAR
VERSION:2.0
BEGIN:VEVENT
URL:https://www.networkinaction.com/index.php/events/viewevent/7826-april-meeting?groupid=154 
DTSTART:20220420T150000
DTEND:20220420T163000
SUMMARY:April meeting
DESCRIPTION:
LOCATION:Roseville, TBD
END:VEVENT
END:VCALENDAR