BEGIN:VCALENDAR
VERSION:2.0
BEGIN:VEVENT
URL:https://www.networkinaction.com/index.php/events/viewevent/7823-nia-social-mixer?groupid=136 
DTSTART:20220222T183000
DTEND:20220222T200000
SUMMARY:NIA - Social Mixer
DESCRIPTION:<p>Guests are welcomed. During our informal Monthly Mixer, we will get to know, like, and trust each other.  Also, if you have a like-minded guest who would make a great fit for our group(s), please invite them.  Right now, we will meet at the Frenchman's Reserve Country Club until we find another location that's further South and I will try to switch it up each month, if necessary.  Once I know the specific location at the Country Club, I will forward you the details.  Come and enjoy!!!  I look forward to seeing you there!<br /></p><br />
LOCATION:Majestic Ash Lounge, 407 Northwood Road, West Palm Beach, FL  33407
END:VEVENT
END:VCALENDAR