BEGIN:VCALENDAR
VERSION:2.0
BEGIN:VEVENT
URL:https://www.networkinaction.com/index.php/events/viewevent/7821-lunch-learn-linkedin-nia-university?groupid=140 
DTSTART:20220214T120000
DTEND:20220214T130000
SUMMARY:Lunch & Learn - LinkedIn & NIA University
DESCRIPTION:<p>Join us as our resident LinkedIn expert, Lena Stoots, will share tips and tricks to <b>Using LinkedIn to Grow your Business</b>.  We will be discussing:
</p><p><ul><li>Who You Are
</li><li>Why you need to be optimized
</li><li>To connect or to follow and why
</li><li>What to post, why and to who?
</li><li>Time to Dispel the myths
</li></ul></p><p>Lena will also answer any questions you have about using LinkedIn effectively.
</p><p>Following Lena's presentation, I will be presenting our newly launched <b>NIA University </b>and showing you how to use it.  
</p><p>We have some amazing new courses available to you with your membership and you will definitely want to take advantage of this value added tool.
</p><p>Simply click this link to join the session:  Zoom: <b>https://us02web.zoom.us/j/86342588775
</b></p><p>See you there!</p>







LOCATION:Zoom:  https://us02web.zoom.us/j/86342588775
END:VEVENT
END:VCALENDAR