BEGIN:VCALENDAR
VERSION:2.0
BEGIN:VEVENT
URL:https://www.networkinaction.com/index.php/events/viewevent/7708-speaker-series-john-hewitt-how-my-extraordinary-strategy-for-winning-can-be-yours-3-00-pm-4-15-pm-cst?groupid=120 
DTSTART:20220224T150000
DTEND:20220224T161500
SUMMARY:Speaker Series | John Hewitt: How My Extraordinary Strategy for Winning Can Be Yours! 3:00 PM – 4:15 PM CST
DESCRIPTION:RSVP Here: https://www.eventbrite.com/e/how-my-extraordinary-strategy-for-winning-can-be-yours-tickets-264782229777

About this event
John is a skilled and artful leader. His book "I Compete" is a best seller and outlines his year of experience developing leadership skills and strategies. A masterful builder of businesses, John has built two of the Top 100 retail franchise chains in North America.

Today John leads the franchise team at Loyalty Brands which is an umbrella organization that has a synergistic group of franchise businesses and services designed to work together to help the franchise buyer prosper both quickly and over the long term. Decades of documented franchise success has enabled John to develop a business system that drives customer loyalty, repeat business and financial stability.
LOCATION:United States
END:VEVENT
END:VCALENDAR