BEGIN:VCALENDAR
VERSION:2.0
BEGIN:VEVENT
URL:https://www.networkinaction.com/index.php/events/viewevent/7595-network-with-the-nation-march-2-1-30-pm-to-3-00-pm-pst?groupid=126 
DTSTART:20220302T133000
DTEND:20220302T150000
SUMMARY:Network With The Nation | March 2, 1:30 pm to 3:00 pm PST
DESCRIPTION:This is your chance to connect with members across the country!

Go to https://www.eventbrite.com/e/network-with-the-nation-march-2-330-pm-to-500-pm-cst-tickets-265264622627 to learn more about this event!

Join us on Zoom at www.ZoomWithNIA.com

We hope to see you there!
LOCATION:United States
END:VEVENT
END:VCALENDAR