BEGIN:VCALENDAR
VERSION:2.0
BEGIN:VEVENT
URL:https://www.networkinaction.com/index.php/events/viewevent/7426-nia-monthly-meeting?groupid=49 
DTSTART:20220210T160000
DTEND:20220210T173000
SUMMARY:NIA Monthly Meeting
DESCRIPTION:<p>Join us for networking, good food and great company!</p>
LOCATION:Carrabba's on tyrone
END:VEVENT
END:VCALENDAR