BEGIN:VCALENDAR
VERSION:2.0
BEGIN:VEVENT
URL:https://www.networkinaction.com/index.php/events/viewevent/7396-veterans-business-force-february-meeting?groupid=147 
DTSTART:20220210T150000
DTEND:20220210T163000
SUMMARY:Veterans Business Force February Meeting
DESCRIPTION:<p>Come join our group of elite, successful business owners and professionals at Veterans Business Force for our monthly meeting.
</p>
<p>We have a great agenda planned for our February meeting.  
</p><p>See you Thursday!</p>

LOCATION:Saltgrass Steakhouse, 8943 Katy Fwy, Houston, TX 77024
END:VEVENT
END:VCALENDAR