BEGIN:VCALENDAR
VERSION:2.0
BEGIN:VEVENT
URL:https://www.networkinaction.com/index.php/events/viewevent/7395-sugar-land-business-force-february-meeting?groupid=140 
DTSTART:20220209T150000
DTEND:20220209T163000
SUMMARY:Sugar Land Business Force February Meeting
DESCRIPTION:<p>Come join our group of elite, successful business owners and professionals at Sugar Land Business Force for our monthly meeting.
</p>
<p>We have a great agenda planned for our February meeting.  
</p><p>See you Wednesday!</p>

LOCATION:Churrascos, 1520 Lake Pointe Pkwy, Ste 500, Sugar Land, TX 77478
END:VEVENT
END:VCALENDAR