BEGIN:VCALENDAR
VERSION:2.0
BEGIN:VEVENT
URL:https://www.networkinaction.com/index.php/events/viewevent/7394-westchase-business-force-february-meeting?groupid=77 
DTSTART:20220208T150000
DTEND:20220208T163000
SUMMARY:Westchase Business Force February Meeting
DESCRIPTION:<p>Come join our group of elite, successful business owners and professionals at Westchase Business Force for our monthly meeting.</p><p>We have a great agenda planned for our February meeting.  </p><p>See you Tuesday!</p>
LOCATION:Saltgrass Steakhouse, 8943 Katy Fwy, Houston, TX 77024
END:VEVENT
END:VCALENDAR