BEGIN:VCALENDAR
VERSION:2.0
BEGIN:VEVENT
URL:https://www.networkinaction.com/index.php/events/viewevent/7353-nia-grow-your-business-launch-learn?groupid=215 
DTSTART:20220209T150000
DTEND:20220209T163000
SUMMARY:NIA Grow Your Business Launch & Learn
DESCRIPTION:Bring a friend, come network with the Yakima group and meet some new faces. First drink is on me!
LOCATION:Norm's 5 N Front St, Yakima, WA 98901
END:VEVENT
END:VCALENDAR