BEGIN:VCALENDAR
VERSION:2.0
BEGIN:VEVENT
URL:https://www.networkinaction.com/index.php/events/viewevent/7348-wednesday-february-9th-monthly-meeting?groupid=14 
DTSTART:20220209T153000
DTEND:20220209T170000
SUMMARY:Wednesday February 9th Monthly Meeting
DESCRIPTION:<p>Join Us for Our February Meeting</p><p>Making Strategic Connections - Sebastian Aguedo is going to show us how!</p><p>Bring your Laptop or Tablet</p><p>Guests are Welcome</p><p>Remember to send your sub if you are unable to attend</p>
LOCATION:Warehouse 72 7620 Katy Freeway
END:VEVENT
END:VCALENDAR