BEGIN:VCALENDAR
VERSION:2.0
BEGIN:VEVENT
URL:https://www.networkinaction.com/index.php/events/viewevent/7335-launch-n-learn-with-nia?groupid=216 
DTSTART:20220203T153000
DTEND:20220203T163000
SUMMARY:Launch 'n Learn with NIA
DESCRIPTION:<p>Learn the NIA difference! Join me virtually on Thursday, February 3rd @ 3:30 pm for an informational session to discover more about Network in Action coming to South Florida.
</p>
<p>I am looking to collaborate with serious professionals and business owners who want to grow their businesses intentionally through a network of like-minded individuals.
</p><p>No other networking organization in the country offers a guarantee on your membership investment! Find out exactly how much we will guarantee you!</p>

LOCATION:https://bit.ly/LaunchnLearn-Feb3rd
END:VEVENT
END:VCALENDAR