BEGIN:VCALENDAR
VERSION:2.0
BEGIN:VEVENT
URL:https://www.networkinaction.com/index.php/events/viewevent/7319-nia-cy-fair-connectors-march-meeting?groupid=12 
DTSTART:20220315T150000
DTEND:20220315T163000
SUMMARY:NIA Cy-Fair Connectors March Meeting
DESCRIPTION:Cy-Fair Connectors March Meeting
LOCATION:World of Beer, The Boardwalk at Towne Lake Address: 9945 Barker Cypress Rd Ste 120, Cypress, TX 77433
END:VEVENT
END:VCALENDAR