BEGIN:VCALENDAR
VERSION:2.0
BEGIN:VEVENT
URL:https://www.networkinaction.com/index.php/events/viewevent/7314-informal-networking-event?groupid=216 
DTSTART:20220126T183000
DTEND:20220126T203000
SUMMARY:Informal Networking Event
DESCRIPTION:During our informal Monthly Mixer, we will get to know, like, and trust each other. Also, if you have a like-minded guest who would make a great fit for our group(s), please invite them. We will meet at the Majestic Ash Lounge located at 407 Northwood Rd., West Palm Beach, FL.Come and enjoy!!!  I look forward to seeing you there!
LOCATION:Majestic Ash Lounge, 407 Northwood Road, West Palm Beach, FL  33407
END:VEVENT
END:VCALENDAR