BEGIN:VCALENDAR
VERSION:2.0
BEGIN:VEVENT
URL:https://www.networkinaction.com/index.php/events/viewevent/7223-lunch-and-learn-speaker-dave-mears-with-next-tech-software?groupid=75 
DTSTART:20220121T113000
DTEND:20220121T130000
SUMMARY:Lunch and Learn - Speaker: Dave Mears with Next Tech Software 
DESCRIPTION:Join us to learn about all-in-one platform software to keep connected to your prospects and clients.

Lunch and Learn | January 21, 11:30 AM to 1:00 PM CST
No Registration! Just SHOW UP!
https://zoomwithtoni.com
LOCATION:https://zoomwithtoni.com
END:VEVENT
END:VCALENDAR