BEGIN:VCALENDAR
VERSION:2.0
BEGIN:VEVENT
URL:https://www.networkinaction.com/index.php/events/viewevent/7218-monthly-meeting?groupid=66 
DTSTART:20220208T160000
DTEND:20220208T173000
SUMMARY:Monthly Meeting
DESCRIPTION:
LOCATION:https://us02web.zoom.us/j/7136780468; and FUSE Workspace, 12848 Queensbury Lane, Sute 208
END:VEVENT
END:VCALENDAR