BEGIN:VCALENDAR
VERSION:2.0
BEGIN:VEVENT
URL:https://www.networkinaction.com/index.php/events/viewevent/7217-monthly-meeting?groupid=68 
DTSTART:20220210T153000
DTEND:20220210T170000
SUMMARY:Monthly Meeting
DESCRIPTION:
LOCATION:https://us02web.zoom.us/j/7136780468
END:VEVENT
END:VCALENDAR