BEGIN:VCALENDAR
VERSION:2.0
BEGIN:VEVENT
URL:https://www.networkinaction.com/index.php/events/viewevent/7204-network-with-the-nation-february-2-4-30-pm-to-6-00-pm-est?groupid=166 
DTSTART:20220202T163000
DTEND:20220202T180000
SUMMARY:Network With The Nation | February 2, 4:30 pm to 6:00 pm EST
DESCRIPTION:Sign up: https://www.eventbrite.com/e/network-with-the-nation-february-2-330-pm-to-500-pm-cst-tickets-244743834397
LOCATION:ZoomWithNIA.com
END:VEVENT
END:VCALENDAR