BEGIN:VCALENDAR
VERSION:2.0
BEGIN:VEVENT
URL:https://www.networkinaction.com/index.php/events/viewevent/7177-network-with-the-nation-february-2-2-30-pm-to-4-00-pm-mst?groupid=117 
DTSTART:20220202T143000
DTEND:20220202T160000
SUMMARY:Network With The Nation | February 2, 2:30 pm to 4:00 pm MST
DESCRIPTION:Sign up: https://www.eventbrite.com/e/network-with-the-nation-february-2-330-pm-to-500-pm-cst-tickets-244743834397
LOCATION:ZoomWithNIA.com
END:VEVENT
END:VCALENDAR