BEGIN:VCALENDAR
VERSION:2.0
BEGIN:VEVENT
URL:https://www.networkinaction.com/index.php/events/viewevent/7142-network-with-the-nation-february-2-1-30-pm-to-3-00-pm-pst?groupid=215 
DTSTART:20220202T133000
DTEND:20220202T150000
SUMMARY:Network With The Nation | February 2, 1:30 pm to 3:00 pm PST
DESCRIPTION:Sign up: https://www.eventbrite.com/e/network-with-the-nation-february-2-330-pm-to-500-pm-cst-tickets-244743834397
LOCATION:ZoomWithNIA.com
END:VEVENT
END:VCALENDAR