BEGIN:VCALENDAR
VERSION:2.0
BEGIN:VEVENT
URL:https://www.networkinaction.com/index.php/events/viewevent/7096-network-with-the-nation-february-2-3-30-pm-to-5-00-pm-cst?groupid=119 
DTSTART:20220202T153000
DTEND:20220202T170000
SUMMARY:Network With The Nation | February 2, 3:30 pm to 5:00 pm CST
DESCRIPTION:Sign up: https://www.eventbrite.com/e/network-with-the-nation-february-2-330-pm-to-500-pm-cst-tickets-244743834397
LOCATION:ZoomWithNIA.com
END:VEVENT
END:VCALENDAR