BEGIN:VCALENDAR
VERSION:2.0
BEGIN:VEVENT
URL:https://www.networkinaction.com/index.php/events/viewevent/7035-nia-realtor-relocation-meeting-8-30-pst-10-30-cst-11-30-est?groupid=112 
DTSTART:20220112T103000
DTEND:20220112T113000
SUMMARY:NIA REALTOR RELOCATION MEETING 8:30 PST, 10:30 CST 11:30 EST
DESCRIPTION:<p>www.zoomwithniatc.com</p><p>January 12th, 8:30 PST, 10:30 CST 11:30 EST</p><br /><p>Please be on time!  Bring your relocation kit!</p>
LOCATION:www.zoomwithniatc.com
END:VEVENT
END:VCALENDAR