BEGIN:VCALENDAR
VERSION:2.0
BEGIN:VEVENT
URL:https://www.networkinaction.com/index.php/events/viewevent/7033-this-thursdays-3-00-to-4-30-monthly-meeting?groupid=1 
DTSTART:20220113T150000
DTEND:20220113T163000
SUMMARY:This Thursdays 3:00 to 4:30 Monthly Meeting 
DESCRIPTION:
LOCATION:Warehouse 72 7620 Katy Freeway Suite 305 
END:VEVENT
END:VCALENDAR