BEGIN:VCALENDAR
VERSION:2.0
BEGIN:VEVENT
URL:https://www.networkinaction.com/index.php/events/viewevent/7018-nia-monthly-meeting?groupid=49 
DTSTART:20220113T160000
DTEND:20220113T173000
SUMMARY:NIA - Monthly Meeting
DESCRIPTION:<p>Join us for the first NIA meeting of the year this Thursday!</p>
LOCATION:Carrabba's on Tyrone Blvd
END:VEVENT
END:VCALENDAR