BEGIN:VCALENDAR
VERSION:2.0
BEGIN:VEVENT
URL:https://www.networkinaction.com/index.php/events/viewevent/7013-nia-scottsdale-monthly-meeting?groupid=86 
DTSTART:20220113T153000
DTEND:20220113T170000
SUMMARY:NIA Scottsdale Monthly Meeting
DESCRIPTION:Monthly meeting at new location and start time.  2nd Thursdays of the month at 3:30 pm at the Scottsdale Carrabbas. 
LOCATION:17007 N Scottsdale Rd, Scottsdale, AZ 85225
END:VEVENT
END:VCALENDAR