BEGIN:VCALENDAR
VERSION:2.0
BEGIN:VEVENT
URL:https://www.networkinaction.com/index.php/events/viewevent/7005-nia-coffee-networking?groupid=198 
DTSTART:20220121T100000
DTEND:20220121T111500
SUMMARY:NIA Coffee & Networking 
DESCRIPTION:<p>Grab a coffee and get to catch up with your fellow NIA Members! You may even meet some new members from other NIA groups. This event is open to all NIA members in the Greater Seattle Area.</p>
LOCATION:5 Stones Bellevue - 2649 Landerholm Cir SE, Bellevue, WA 98007
END:VEVENT
END:VCALENDAR