BEGIN:VCALENDAR
VERSION:2.0
BEGIN:VEVENT
URL:https://www.networkinaction.com/index.php/events/viewevent/6933-how-to-free-up-time-to-grow-your-business?groupid=69 
DTSTART:20220127T150000
DTEND:20220127T161500
SUMMARY:How to Free Up Time to Grow Your Business
DESCRIPTION:Sign up here:<a href="https://www.eventbrite.com/e/how-to-free-up-time-to-grow-your-business-tickets-241447023547"><strong><u>https://www.eventbrite.com/e/how-to-free-up-time-to-grow-your-business-tickets-241447023547</u></strong></a>!
LOCATION:United States
END:VEVENT
END:VCALENDAR