BEGIN:VCALENDAR
VERSION:2.0
BEGIN:VEVENT
URL:https://www.networkinaction.com/index.php/events/viewevent/6894-nia-cy-fair-connectors-monthly-meeting?groupid=12 
DTSTART:20220215T150000
DTEND:20220215T163000
SUMMARY:NIA Cy-Fair Connectors Monthly Meeting
DESCRIPTION:Cy-Fair Connectors February Meeting
LOCATION:Matts' Office, 17150 N. Eldridge Parkway, Unit D, Tomball, TX, 77377
END:VEVENT
END:VCALENDAR