BEGIN:VCALENDAR
VERSION:2.0
BEGIN:VEVENT
URL:https://www.networkinaction.com/index.php/events/viewevent/6892-january-meeting?groupid=147 
DTSTART:20220113T150000
DTEND:20220113T163000
SUMMARY:January Meeting
DESCRIPTION:<p>Looking forward to seeing you as we start a brand new year. We have a great agenda that will help you prepare for success in 2022. Come join all of our Westchase Business Force members to kick off 2022 right!</p>
LOCATION:Lupe Tortilla, 9313 Katy Freeway
END:VEVENT
END:VCALENDAR