BEGIN:VCALENDAR
VERSION:2.0
BEGIN:VEVENT
URL:https://www.networkinaction.com/index.php/events/viewevent/6891-january-meeting?groupid=140 
DTSTART:20220112T150000
DTEND:20220112T163000
SUMMARY:January Meeting
DESCRIPTION:<p>Looking forward to seeing you as we start a brand new year.  We have a great agenda that will help you prepare for success in 2022.  Come join all of our Westchase Business Force members to kick off 2022 right!</p>
LOCATION:Churrascos, 1520 Lake Pointe Pkwy, Ste 500, Sugar Land, TX 77478
END:VEVENT
END:VCALENDAR