BEGIN:VCALENDAR
VERSION:2.0
BEGIN:VEVENT
URL:https://www.networkinaction.com/index.php/events/viewevent/6890-january-meeting?groupid=77 
DTSTART:20220111T150000
DTEND:20220111T163000
SUMMARY:January Meeting
DESCRIPTION:Looking forward to seeing you as we start a brand new year.  We have a great agenda that will help you prepare for success in 2022.  Come join all of our Westchase Business Force members to kick off 2022 right!
LOCATION:Lupe Tortilla, 9313 Katy Freeway
END:VEVENT
END:VCALENDAR