BEGIN:VCALENDAR
VERSION:2.0
BEGIN:VEVENT
URL:https://www.networkinaction.com/index.php/events/viewevent/6868-nia-realtor-relocation-meeting-8-30-pst-10-30-cst-11-30-est?groupid=112 
DTSTART:20220309T103000
DTEND:20220309T113000
SUMMARY:NIA REALTOR RELOCATION MEETING 8:30 PST, 10:30 CST 11:30 EST
DESCRIPTION:<p>NIA REALTOR RELOCATION MEETING 8:30 PST, 10:30 CST 11:30 EST</p><p>questions contact kimt@networkinaction.com.</p><p>Please be on time.  attendance will be taken.  Cameras must be on.</p>
LOCATION:www.zoomwithniatc.com
END:VEVENT
END:VCALENDAR