BEGIN:VCALENDAR
VERSION:2.0
BEGIN:VEVENT
URL:https://www.networkinaction.com/index.php/events/viewevent/6866-nia-realtor-relocation-meeting-8-30-pst-10-30-cst-11-30-est-mandatory-meeting?groupid=112 
DTSTART:20220209T103000
DTEND:20220209T113000
SUMMARY:NIA REALTOR RELOCATION MEETING 8:30 PST, 10:30 CST 11:30 EST mandatory meeting
DESCRIPTION:<p>Please be on time!  Attendance will be taken.</p><p>Must have cameras on.</p><p>www.zoomwithniatc.com</p><p>NIA REALTOR RELOCATION MEETING 8:30 PST, 10:30 CST 11:30 EST</p>
LOCATION:www.zoomwithniatc.com
END:VEVENT
END:VCALENDAR