BEGIN:VCALENDAR
VERSION:2.0
BEGIN:VEVENT
URL:https://www.networkinaction.com/index.php/events/viewevent/6840-march-meeting?groupid=154 
DTSTART:20220309T150000
DTEND:20220309T163000
SUMMARY:March Meeting
DESCRIPTION:
LOCATION:Monk's Cellar
END:VEVENT
END:VCALENDAR