BEGIN:VCALENDAR
VERSION:2.0
BEGIN:VEVENT
URL:https://www.networkinaction.com/index.php/events/viewevent/6839-february-meeting?groupid=154 
DTSTART:20220209T150000
DTEND:20220209T163000
SUMMARY:February Meeting
DESCRIPTION:
LOCATION:Monk's Cellar
END:VEVENT
END:VCALENDAR