BEGIN:VCALENDAR
VERSION:2.0
BEGIN:VEVENT
URL:https://www.networkinaction.com/index.php/events/viewevent/6835-7-year-anniversary-of-nia-heights-3-00-to-5-30?groupid=1 
DTSTART:20220210T153000
DTEND:20220210T173000
SUMMARY:7 Year Anniversary of NIA Heights  3:00 to 5:30 
DESCRIPTION:Please join me in celebrating/networking with all of the Heights members since 2015! We are opening our meeting Mixer to all of the members who have come before you. Please join me in celebrating at the location of our very first meeting ever for NIA. Drinks appetizers and great story telling! 
LOCATION:Harold's In The Heights 350 W 19th
END:VEVENT
END:VCALENDAR