BEGIN:VCALENDAR
VERSION:2.0
BEGIN:VEVENT
URL:https://www.networkinaction.com/index.php/events/viewevent/6834-cougar-connection-central-monthly-meeting?groupid=14 
DTSTART:20220112T153000
DTEND:20220112T170000
SUMMARY:Cougar Connection - Central Monthly Meeting
DESCRIPTION:<br /><p>Come network with business owners who are intentional about helping you build relationships that last a lifetime! Our group is committed to helping you to create more warm leads that convert to sales. </p>
LOCATION:Warehouse 72, 7620 Katy Fwy #305, Houston, TX 77024
END:VEVENT
END:VCALENDAR