BEGIN:VCALENDAR
VERSION:2.0
BEGIN:VEVENT
URL:https://www.networkinaction.com/index.php/events/viewevent/6832-informal-monthly-mixer?groupid=136 
DTSTART:20220126T180000
DTEND:20220126T203000
SUMMARY:Informal Monthly Mixer
DESCRIPTION:<p>During our informal Monthly Mixer, we will get to know, like, and trust each other.  Also, if you have a like-minded guest who would make a great fit for our group(s), please invite them. We will meet at the Majestic Ash Lounge located at 407 Northwood Rd., West Palm Beach, FL.Come and enjoy!!!  I look forward to seeing you there!</p>
LOCATION:Majestic Ash Lounge, 407 Northwood Road, West Palm Beach, FL  33407
END:VEVENT
END:VCALENDAR