BEGIN:VCALENDAR
VERSION:2.0
BEGIN:VEVENT
URL:https://www.networkinaction.com/index.php/events/viewevent/6828-1st-virtual-general-group-member-meeting-mandatory-for-guaranteed-roi?groupid=133 
DTSTART:20220113T090000
DTEND:20220113T100000
SUMMARY:1st - Virtual - General Group Member Meeting - Mandatory for Guaranteed ROI
DESCRIPTION:Join us for our first General Member Meeting.  These meetings are virtual and go towards your Guaranteed ROI.  We will always use the following link to meet:  https://zoomwithdrroundtree.com.  We will also have a unique agenda each month and will try to meet on the 2nd Thursday of each month unless otherwise notified.
LOCATION:https://zoomwithdrroundtree.com
END:VEVENT
END:VCALENDAR