BEGIN:VCALENDAR
VERSION:2.0
BEGIN:VEVENT
URL:https://www.networkinaction.com/index.php/events/viewevent/6807-cy-fair-connectors-monthly-meeting?groupid=12 
DTSTART:20220118T150000
DTEND:20220118T163000
SUMMARY:Cy-Fair Connectors Monthly Meeting
DESCRIPTION:NIA Cy-Fair Connectors January Meeting
LOCATION:Salt Grass Steak House, 23952 Northwest Freeway, Cypress, 77429
END:VEVENT
END:VCALENDAR