BEGIN:VCALENDAR
VERSION:2.0
BEGIN:VEVENT
URL:https://www.networkinaction.com/index.php/events/viewevent/6806-launch-n-learn-with-nia?groupid=216 
DTSTART:20220106T153000
DTEND:20220106T163000
SUMMARY:Launch 'n Learn with NIA
DESCRIPTION:<p>On Thursday, January 6th @ 3:30 pm EST, I will host a virtual Launch 'n Learn to share the NIA opportunity with other like-minded business leaders and professionals.  Join me to network and invite other potential members that you may know. Click the link to join in:  https://bit.ly/LaunchnLearn-Jan6th</p>
LOCATION:https://us02web.zoom.us/meeting/register/tZIvfuyrqjojHdOXNJua5018eWZaqQZ5nDZS
END:VEVENT
END:VCALENDAR