BEGIN:VCALENDAR
VERSION:2.0
BEGIN:VEVENT
URL:https://www.networkinaction.com/index.php/events/viewevent/6799-network-with-the-nation-4-30-pm-6-00-pm-est?groupid=174 
DTSTART:20220105T163000
DTEND:20220105T180000
SUMMARY:Network With The Nation | 4:30 PM - 6:00 PM EST
DESCRIPTION:Your chance to connect with members across the country!

Go to https://www.eventbrite.com/e/network-with-the-nation-january-5-330-pm-to-500-pm-cst-tickets-229436028337 to learn more about this event!

Join us on Zoom at www.ZoomWithNIA.com

We hope to see you there!
LOCATION:zoomwithnia.com
END:VEVENT
END:VCALENDAR