BEGIN:VCALENDAR
VERSION:2.0
BEGIN:VEVENT
URL:https://www.networkinaction.com/index.php/events/viewevent/6776-network-with-the-nation-4-30-pm-6-00-pm-et-rsvp-pls?groupid=29 
DTSTART:20220105T163000
DTEND:20220105T180000
SUMMARY:Network With The Nation | 4:30 PM - 6:00 PM ET | RSVP Pls
DESCRIPTION:<p>Join us for the NIA's (Members Only) nationwide networking opportunity. This month-to-month event is available to all NIA members, no matter where you are on the map. Join us for the chance to connect with professionals looking to network outside their locality.</p><p>Join on Zoom
</p><p>https://www.ZoomWithNIA.com
</p><p>Meeting ID: 857 228 4669</p>
LOCATION:Meeting ID: 857-228-4669
END:VEVENT
END:VCALENDAR