BEGIN:VCALENDAR
VERSION:2.0
BEGIN:VEVENT
URL:https://www.networkinaction.com/index.php/events/viewevent/6593-nia-monthly-meeting?groupid=49 
DTSTART:20211209T160000
DTEND:20211209T173000
SUMMARY:NIA Monthly Meeting
DESCRIPTION:<p>Join us for our official monthly meeting!</p>
LOCATION:Carrabba's on Tyrone Blvd
END:VEVENT
END:VCALENDAR