BEGIN:VCALENDAR
VERSION:2.0
BEGIN:VEVENT
URL:https://www.networkinaction.com/index.php/events/viewevent/6590-lakeway-launch-learn?groupid=152 
DTSTART:20220202T153000
DTEND:20220202T170000
SUMMARY:Lakeway Launch & Learn
DESCRIPTION:
LOCATION:The Gramercy -  1516 Ranch Rd 620 S Building F, Suite 200, Lakeway, TX 78734
END:VEVENT
END:VCALENDAR