BEGIN:VCALENDAR
VERSION:2.0
BEGIN:VEVENT
URL:https://www.networkinaction.com/index.php/events/viewevent/6583-lakeway-monthly-meeting?groupid=152 
DTSTART:20220615T150000
DTEND:20220619T163000
SUMMARY:Lakeway Monthly Meeting
RRULE:FREQ=MONTHLY;UNTIL=20230119T000000
DESCRIPTION:
LOCATION:R19 Taqueria - 2422 Ranch Rd 620 S A-120, Austin, TX 78738 ·
END:VEVENT
END:VCALENDAR